BEGIN:VCALENDAR
VERSION:2.0
PRODID:-//ChamberMaster//Event Calendar 2.0//EN
METHOD:PUBLISH
X-PUBLISHED-TTL:P3D
REFRESH-INTERVAL:P3D
CALSCALE:GREGORIAN
BEGIN:VEVENT
DTSTART:20110324T223000Z
DTEND:20110325T000000Z
X-MICROSOFT-CDO-ALLDAYEVENT:FALSE
SUMMARY:Ladies March Madness
DESCRIPTION:
X-ALT-DESC;FMTTYPE=text/html:
LOCATION:Holiday Inn Garland North
UID:e.2096.905
SEQUENCE:3
DTSTAMP:20260422T221852Z
URL:https://network.garlandchamber.com/events/details/ladies-march-madness-03-24-2011-905
END:VEVENT

END:VCALENDAR
