BEGIN:VCALENDAR
VERSION:2.0
PRODID:-//ChamberMaster//Event Calendar 2.0//EN
METHOD:PUBLISH
X-PUBLISHED-TTL:P3D
REFRESH-INTERVAL:P3D
CALSCALE:GREGORIAN
BEGIN:VEVENT
DTSTART:20101210T210000Z
DTEND:20101210T230000Z
X-MICROSOFT-CDO-ALLDAYEVENT:FALSE
SUMMARY:Lakewood Village Open House
DESCRIPTION:
X-ALT-DESC;FMTTYPE=text/html:
LOCATION:Lakewood Village
UID:e.2096.699
SEQUENCE:3
DTSTAMP:20260423T011134Z
URL:https://network.garlandchamber.com/events/details/lakewood-village-open-house-12-10-2010-699
END:VEVENT

END:VCALENDAR
