BEGIN:VCALENDAR
VERSION:2.0
PRODID:-//ChamberMaster//Event Calendar 2.0//EN
METHOD:PUBLISH
X-PUBLISHED-TTL:P3D
REFRESH-INTERVAL:P3D
CALSCALE:GREGORIAN
BEGIN:VEVENT
DTSTART:20120204T001500Z
DTEND:20120203T060000Z
X-MICROSOFT-CDO-ALLDAYEVENT:FALSE
SUMMARY:LCS Travel Ribbon Cutting Ceremony
DESCRIPTION:The ribbon cutting witll be held at 6:15 p.m.
X-ALT-DESC;FMTTYPE=text/html:<DIV>The ribbon cutting witll be held at 6:15 p.m.</DIV>
LOCATION:Eastern Hills Country Club
UID:e.2096.994
SEQUENCE:3
DTSTAMP:20260422T051812Z
URL:https://network.garlandchamber.com/events/details/lcs-travel-ribbon-cutting-ceremony-02-03-2012-994
END:VEVENT

END:VCALENDAR
