BEGIN:VCALENDAR
VERSION:2.0
PRODID:-//ChamberMaster//Event Calendar 2.0//EN
METHOD:PUBLISH
X-PUBLISHED-TTL:P3D
REFRESH-INTERVAL:P3D
CALSCALE:GREGORIAN
BEGIN:VEVENT
DTSTART:20140101T140000Z
DTEND:20140101T060000Z
X-MICROSOFT-CDO-ALLDAYEVENT:FALSE
SUMMARY:Leadership Garland Alumni 2014
DESCRIPTION:
X-ALT-DESC;FMTTYPE=text/html:
LOCATION:
UID:e.2096.1171
SEQUENCE:3
DTSTAMP:20260420T200544Z
URL:https://network.garlandchamber.com/events/details/leadership-garland-alumni-2014-01-01-2014-1171
END:VEVENT

END:VCALENDAR
