BEGIN:VCALENDAR
VERSION:2.0
PRODID:-//ChamberMaster//Event Calendar 2.0//EN
METHOD:PUBLISH
X-PUBLISHED-TTL:P3D
REFRESH-INTERVAL:P3D
CALSCALE:GREGORIAN
BEGIN:VEVENT
DTSTART:20081006T050000Z
DTEND:20081006T050000Z
X-MICROSOFT-CDO-ALLDAYEVENT:FALSE
SUMMARY:Leadership Garland Alumni Association
DESCRIPTION:Leadership Garland Alumni Association
X-ALT-DESC;FMTTYPE=text/html:Leadership Garland Alumni Association
LOCATION:
UID:e.2096.1917
SEQUENCE:3
DTSTAMP:20260424T131703Z
URL:https://network.garlandchamber.com/events/details/leadership-garland-alumni-association-10-06-2008-1917
END:VEVENT

END:VCALENDAR
