BEGIN:VCALENDAR
VERSION:2.0
PRODID:-//ChamberMaster//Event Calendar 2.0//EN
METHOD:PUBLISH
X-PUBLISHED-TTL:P3D
REFRESH-INTERVAL:P3D
CALSCALE:GREGORIAN
BEGIN:VEVENT
DTSTART:20100528T163000Z
DTEND:20100528T180000Z
X-MICROSOFT-CDO-ALLDAYEVENT:FALSE
SUMMARY:Leadership Garland Alumni Greenstar Tour
DESCRIPTION:
X-ALT-DESC;FMTTYPE=text/html:
LOCATION:Greenstar
UID:e.2096.796
SEQUENCE:3
DTSTAMP:20260423T104933Z
URL:https://network.garlandchamber.com/events/details/leadership-garland-alumni-greenstar-tour-05-28-2010-796
END:VEVENT

END:VCALENDAR
