BEGIN:VCALENDAR
VERSION:2.0
PRODID:-//ChamberMaster//Event Calendar 2.0//EN
METHOD:PUBLISH
X-PUBLISHED-TTL:P3D
REFRESH-INTERVAL:P3D
CALSCALE:GREGORIAN
BEGIN:VEVENT
DTSTART:20080528T223000Z
DTEND:20080528T050000Z
X-MICROSOFT-CDO-ALLDAYEVENT:FALSE
SUMMARY:Leadership Garland Alumni Happy Hour Event
DESCRIPTION:
X-ALT-DESC;FMTTYPE=text/html:
LOCATION:Dos Banderos
UID:e.2096.539
SEQUENCE:3
DTSTAMP:20260424T200547Z
URL:https://network.garlandchamber.com/events/details/leadership-garland-alumni-happy-hour-event-05-28-2008-539
END:VEVENT

END:VCALENDAR
