BEGIN:VCALENDAR
VERSION:2.0
PRODID:-//ChamberMaster//Event Calendar 2.0//EN
METHOD:PUBLISH
X-PUBLISHED-TTL:P3D
REFRESH-INTERVAL:P3D
CALSCALE:GREGORIAN
BEGIN:VEVENT
DTSTART:20110217T233000Z
DTEND:20110218T013000Z
X-MICROSOFT-CDO-ALLDAYEVENT:FALSE
SUMMARY:Leadership Garland Alumni Winter Event - CANCELED
DESCRIPTION:
X-ALT-DESC;FMTTYPE=text/html:
LOCATION:Randall Reed's Prestige Ford
UID:e.2096.897
SEQUENCE:3
DTSTAMP:20260422T222448Z
URL:https://network.garlandchamber.com/events/details/leadership-garland-alumni-winter-event-canceled-02-17-2011-897
END:VEVENT

END:VCALENDAR
