BEGIN:VCALENDAR
VERSION:2.0
PRODID:-//ChamberMaster//Event Calendar 2.0//EN
METHOD:PUBLISH
X-PUBLISHED-TTL:P3D
REFRESH-INTERVAL:P3D
CALSCALE:GREGORIAN
BEGIN:VEVENT
DTSTART:20090827T130000Z
DTEND:20090827T220000Z
X-MICROSOFT-CDO-ALLDAYEVENT:FALSE
SUMMARY:Leadership Garland Class 29 2009-2010
DESCRIPTION:
X-ALT-DESC;FMTTYPE=text/html:
LOCATION:
UID:e.2096.682
SEQUENCE:3
DTSTAMP:20260423T234207Z
URL:https://network.garlandchamber.com/events/details/leadership-garland-class-29-2009-2010-08-27-2009-682
END:VEVENT

END:VCALENDAR
