BEGIN:VCALENDAR
VERSION:2.0
PRODID:-//ChamberMaster//Event Calendar 2.0//EN
METHOD:PUBLISH
X-PUBLISHED-TTL:P3D
REFRESH-INTERVAL:P3D
CALSCALE:GREGORIAN
BEGIN:VEVENT
DTSTART:20100513T050000Z
DTEND:20100513T050000Z
X-MICROSOFT-CDO-ALLDAYEVENT:FALSE
SUMMARY:Leadership Garland Class 29 Graduation Reception
DESCRIPTION:Leadership Garland Class 29 Graduation Reception
X-ALT-DESC;FMTTYPE=text/html:Leadership Garland Class 29 Graduation Reception
LOCATION:The Atrium at the Granville Arts Center
UID:e.2096.2149
SEQUENCE:3
DTSTAMP:20260423T104733Z
URL:https://network.garlandchamber.com/events/details/leadership-garland-class-29-graduation-reception-05-13-2010-2149
END:VEVENT

END:VCALENDAR
