BEGIN:VCALENDAR
VERSION:2.0
PRODID:-//ChamberMaster//Event Calendar 2.0//EN
METHOD:PUBLISH
X-PUBLISHED-TTL:P3D
REFRESH-INTERVAL:P3D
CALSCALE:GREGORIAN
BEGIN:VEVENT
DTSTART:20110826T000000Z
DTEND:20110826T020000Z
X-MICROSOFT-CDO-ALLDAYEVENT:FALSE
SUMMARY:Leadership Garland Class 31 Reception
DESCRIPTION:
X-ALT-DESC;FMTTYPE=text/html:
LOCATION:The Atrium
UID:e.2096.952
SEQUENCE:3
DTSTAMP:20260422T134117Z
URL:https://network.garlandchamber.com/events/details/leadership-garland-class-31-reception-08-25-2011-952
END:VEVENT

END:VCALENDAR
