BEGIN:VCALENDAR
VERSION:2.0
PRODID:-//ChamberMaster//Event Calendar 2.0//EN
METHOD:PUBLISH
X-PUBLISHED-TTL:P3D
REFRESH-INTERVAL:P3D
CALSCALE:GREGORIAN
BEGIN:VEVENT
DTSTART:20130801T130000Z
DTEND:20140531T220000Z
X-MICROSOFT-CDO-ALLDAYEVENT:FALSE
SUMMARY:Leadership Garland Class 33 2013-2014
DESCRIPTION:
X-ALT-DESC;FMTTYPE=text/html:
LOCATION:
UID:e.2096.1132
SEQUENCE:3
DTSTAMP:20260420T151307Z
URL:https://network.garlandchamber.com/events/details/leadership-garland-class-33-2013-2014-08-01-2013-1132
END:VEVENT

END:VCALENDAR
