BEGIN:VCALENDAR
VERSION:2.0
PRODID:-//ChamberMaster//Event Calendar 2.0//EN
METHOD:PUBLISH
X-PUBLISHED-TTL:P3D
REFRESH-INTERVAL:P3D
CALSCALE:GREGORIAN
BEGIN:VEVENT
DTSTART:20150522T000000Z
DTEND:20150522T020000Z
X-MICROSOFT-CDO-ALLDAYEVENT:FALSE
SUMMARY:Leadership Garland Class 34 Graduation Reception
DESCRIPTION:
X-ALT-DESC;FMTTYPE=text/html:
LOCATION:The Atrium
UID:e.2096.2805
SEQUENCE:3
DTSTAMP:20260419T192800Z
URL:https://network.garlandchamber.com/events/details/leadership-garland-class-34-graduation-reception-05-21-2015-2805
END:VEVENT

END:VCALENDAR
