BEGIN:VCALENDAR
VERSION:2.0
PRODID:-//ChamberMaster//Event Calendar 2.0//EN
METHOD:PUBLISH
X-PUBLISHED-TTL:P3D
REFRESH-INTERVAL:P3D
CALSCALE:GREGORIAN
BEGIN:VEVENT
DTSTART:20150828T000000Z
DTEND:20150828T020000Z
X-MICROSOFT-CDO-ALLDAYEVENT:FALSE
SUMMARY:Leadership Garland Class 35 Welcome Reception (2015-2016)
DESCRIPTION:Leadership Garland Class 35 Welcome Reception
X-ALT-DESC;FMTTYPE=text/html:Leadership Garland Class 35 Welcome Reception
LOCATION:The Atrium
UID:e.2096.2807
SEQUENCE:3
DTSTAMP:20260419T143633Z
URL:https://network.garlandchamber.com/events/details/leadership-garland-class-35-welcome-reception-2015-2016-08-27-2015-2807
END:VEVENT

END:VCALENDAR
