BEGIN:VCALENDAR
VERSION:2.0
PRODID:-//ChamberMaster//Event Calendar 2.0//EN
METHOD:PUBLISH
X-PUBLISHED-TTL:P3D
REFRESH-INTERVAL:P3D
CALSCALE:GREGORIAN
BEGIN:VEVENT
DTSTART:20070517T050000Z
DTEND:20070517T050000Z
X-MICROSOFT-CDO-ALLDAYEVENT:FALSE
SUMMARY:Leadership Garland Graduation - Class 26
DESCRIPTION:Leadership Garland Graduation - Class 26
X-ALT-DESC;FMTTYPE=text/html:Leadership Garland Graduation - Class 26
LOCATION:Holiday Inn Select
UID:e.2096.1708
SEQUENCE:3
DTSTAMP:20260425T133409Z
URL:https://network.garlandchamber.com/events/details/leadership-garland-graduation-class-26-05-17-2007-1708
END:VEVENT

END:VCALENDAR
