BEGIN:VCALENDAR
VERSION:2.0
PRODID:-//ChamberMaster//Event Calendar 2.0//EN
METHOD:PUBLISH
X-PUBLISHED-TTL:P3D
REFRESH-INTERVAL:P3D
CALSCALE:GREGORIAN
BEGIN:VEVENT
DTSTART:20100227T210000Z
DTEND:20100227T060000Z
X-MICROSOFT-CDO-ALLDAYEVENT:FALSE
SUMMARY:Leadership Garland Harbor Point Event
DESCRIPTION:
X-ALT-DESC;FMTTYPE=text/html:
LOCATION:Flying Saucer Draught Emporium
UID:e.2096.753
SEQUENCE:3
DTSTAMP:20260423T151033Z
URL:https://network.garlandchamber.com/events/details/leadership-garland-harbor-point-event-02-27-2010-753
END:VEVENT

END:VCALENDAR
