BEGIN:VCALENDAR
VERSION:2.0
PRODID:-//ChamberMaster//Event Calendar 2.0//EN
METHOD:PUBLISH
X-PUBLISHED-TTL:P3D
REFRESH-INTERVAL:P3D
CALSCALE:GREGORIAN
BEGIN:VEVENT
DTSTART:20091014T050000Z
DTEND:20091014T050000Z
X-MICROSOFT-CDO-ALLDAYEVENT:FALSE
SUMMARY:Leadership Garland: Rise Up & Reconnect
DESCRIPTION:Leadership Garland: Rise Up & Reconnect
X-ALT-DESC;FMTTYPE=text/html:Leadership Garland: Rise Up & Reconnect
LOCATION:Hyatt Place
UID:e.2096.2063
SEQUENCE:3
DTSTAMP:20260423T205734Z
URL:https://network.garlandchamber.com/events/details/leadership-garland-rise-up-reconnect-10-14-2009-2063
END:VEVENT

END:VCALENDAR
