BEGIN:VCALENDAR
VERSION:2.0
PRODID:-//ChamberMaster//Event Calendar 2.0//EN
METHOD:PUBLISH
X-PUBLISHED-TTL:P3D
REFRESH-INTERVAL:P3D
CALSCALE:GREGORIAN
BEGIN:VEVENT
DTSTART:20090911T153000Z
DTEND:20090911T163000Z
X-MICROSOFT-CDO-ALLDAYEVENT:FALSE
SUMMARY:Leading In Turbulent Times
DESCRIPTION:
X-ALT-DESC;FMTTYPE=text/html:
LOCATION:Garland Chamber of Commerce
UID:e.2096.545
SEQUENCE:3
DTSTAMP:20260423T220809Z
URL:https://network.garlandchamber.com/events/details/leading-in-turbulent-times-09-11-2009-545
END:VEVENT

END:VCALENDAR
