BEGIN:VCALENDAR
VERSION:2.0
PRODID:-//ChamberMaster//Event Calendar 2.0//EN
METHOD:PUBLISH
X-PUBLISHED-TTL:P3D
REFRESH-INTERVAL:P3D
CALSCALE:GREGORIAN
BEGIN:VEVENT
DTSTART:20121204T133000Z
DTEND:20121204T150000Z
X-MICROSOFT-CDO-ALLDAYEVENT:FALSE
SUMMARY:Legislative Affairs Breakfast 2012
DESCRIPTION:The Legislative Affairs Committee of the Garland Chamber of Commerce invites you to attend its 1st Annual Breakfast. This event will provide the community an opporunity to meet and greet the legislators who represent the Garland area in 2013. In addition\, it will give attendees the opportunity to express ideas and suggestions as well as show appreciation to the representatives for their service prior to the new session. Sponsored by: Atmos Energy\, AT&T and Water Provisions To Go
X-ALT-DESC;FMTTYPE=text/html:<DIV style="FONT-FAMILY: Arial">The Legislative Affairs Committee of the Garland Chamber of Commerce invites you to attend its 1st Annual Breakfast. This event will provide the community an opporunity to meet and greet the legislators who represent the Garland area in 2013. In addition\, it will give attendees the opportunity to express ideas and suggestions as well as show appreciation to the representatives for their service prior to the new session.</DIV><DIV style="FONT-FAMILY: Arial">&nbsp\;</DIV><DIV style="FONT-FAMILY: Arial">Sponsored by: Atmos Energy\, AT&amp\;T and Water Provisions To Go</DIV>
LOCATION:Garland Chamber of Commerce
UID:e.2096.1109
SEQUENCE:3
DTSTAMP:20260421T144819Z
URL:https://network.garlandchamber.com/events/details/legislative-affairs-breakfast-2012-12-04-2012-1109
END:VEVENT

END:VCALENDAR
