BEGIN:VCALENDAR
VERSION:2.0
PRODID:-//ChamberMaster//Event Calendar 2.0//EN
METHOD:PUBLISH
X-PUBLISHED-TTL:P3D
REFRESH-INTERVAL:P3D
CALSCALE:GREGORIAN
BEGIN:VEVENT
DTSTART:20131203T133000Z
DTEND:20131203T150000Z
X-MICROSOFT-CDO-ALLDAYEVENT:FALSE
SUMMARY:Legislative Affairs Breakfast 2013
DESCRIPTION:The Legislative Affairs Committee and the Garland Chamber of Commerce invite you to attend the 2nd Annual Legislative Breakfast on Tuesday\, Dec. 3\, 2013. The event will provide the community and local leaders an opportunity to meet and greet the legislators who represent the Garland area. The breakfast also gives attendees an opportunity to hear from our Representatives about their accomplishments and issues passed during the 83rd Legislative Session. Sponsored by: Atmos Energy\, AT&T and Water Provisions To Go
X-ALT-DESC;FMTTYPE=text/html:<P>The Legislative Affairs Committee and the Garland Chamber of Commerce invite you to attend the 2nd Annual Legislative Breakfast on Tuesday\, Dec. 3\, 2013. The event will provide the community and local leaders an opportunity to meet and greet the legislators who represent the Garland area. The breakfast also gives attendees an opportunity to hear from our Representatives about their accomplishments and issues passed during the 83rd Legislative Session. </P><P>Sponsored by: Atmos Energy\, AT&amp\;T and Water Provisions To Go</P>
LOCATION:Garland Chamber of Commerce
UID:e.2096.1197
SEQUENCE:3
DTSTAMP:20260420T213136Z
URL:https://network.garlandchamber.com/events/details/legislative-affairs-breakfast-2013-12-03-2013-1197
END:VEVENT

END:VCALENDAR
