BEGIN:VCALENDAR
VERSION:2.0
PRODID:-//ChamberMaster//Event Calendar 2.0//EN
METHOD:PUBLISH
X-PUBLISHED-TTL:P3D
REFRESH-INTERVAL:P3D
CALSCALE:GREGORIAN
BEGIN:VEVENT
DTSTART:20130228T060000Z
DTEND:20130228T060000Z
X-MICROSOFT-CDO-ALLDAYEVENT:FALSE
SUMMARY:LG Alumni Baylor Luncheon 02/28/13
DESCRIPTION:LG Alumni Baylor Luncheon 02/28/13
X-ALT-DESC;FMTTYPE=text/html:LG Alumni Baylor Luncheon 02/28/13
LOCATION:Baylor Medical Center at Garland
UID:e.2096.2526
SEQUENCE:3
DTSTAMP:20260421T115108Z
URL:https://network.garlandchamber.com/events/details/lg-alumni-baylor-luncheon-02-28-13-02-28-2013-2526
END:VEVENT

END:VCALENDAR
