BEGIN:VCALENDAR
VERSION:2.0
PRODID:-//ChamberMaster//Event Calendar 2.0//EN
METHOD:PUBLISH
X-PUBLISHED-TTL:P3D
REFRESH-INTERVAL:P3D
CALSCALE:GREGORIAN
BEGIN:VEVENT
DTSTART:20131015T223000Z
DTEND:20131016T010000Z
X-MICROSOFT-CDO-ALLDAYEVENT:FALSE
SUMMARY:LG Alumni Homecoming
DESCRIPTION:
X-ALT-DESC;FMTTYPE=text/html:
LOCATION:Jerry Andrews Pavilion\, Firewheel Golf Park
UID:e.2096.1208
SEQUENCE:3
DTSTAMP:20260421T002339Z
URL:https://network.garlandchamber.com/events/details/lg-alumni-homecoming-10-15-2013-1208
END:VEVENT

END:VCALENDAR
