BEGIN:VCALENDAR
VERSION:2.0
PRODID:-//ChamberMaster//Event Calendar 2.0//EN
METHOD:PUBLISH
X-PUBLISHED-TTL:P3D
REFRESH-INTERVAL:P3D
CALSCALE:GREGORIAN
BEGIN:VEVENT
DTSTART:20101116T060000Z
DTEND:20101116T060000Z
X-MICROSOFT-CDO-ALLDAYEVENT:FALSE
SUMMARY:LG Class XXX Shirts
DESCRIPTION:LG Class XXX Shirts
X-ALT-DESC;FMTTYPE=text/html:LG Class XXX Shirts
LOCATION:
UID:e.2096.2207
SEQUENCE:3
DTSTAMP:20260423T040807Z
URL:https://network.garlandchamber.com/events/details/lg-class-xxx-shirts-11-16-2010-2207
END:VEVENT

END:VCALENDAR
