BEGIN:VCALENDAR
VERSION:2.0
PRODID:-//ChamberMaster//Event Calendar 2.0//EN
METHOD:PUBLISH
X-PUBLISHED-TTL:P3D
REFRESH-INTERVAL:P3D
CALSCALE:GREGORIAN
BEGIN:VEVENT
DTSTART:20111104T050000Z
DTEND:20111104T050000Z
X-MICROSOFT-CDO-ALLDAYEVENT:FALSE
SUMMARY:LG Class XXXI Shirts
DESCRIPTION:LG Class XXXI Shirts
X-ALT-DESC;FMTTYPE=text/html:LG Class XXXI Shirts
LOCATION:
UID:e.2096.2350
SEQUENCE:3
DTSTAMP:20260422T091548Z
URL:https://network.garlandchamber.com/events/details/lg-class-xxxi-shirts-11-04-2011-2350
END:VEVENT

END:VCALENDAR
