BEGIN:VCALENDAR
VERSION:2.0
PRODID:-//ChamberMaster//Event Calendar 2.0//EN
METHOD:PUBLISH
X-PUBLISHED-TTL:P3D
REFRESH-INTERVAL:P3D
CALSCALE:GREGORIAN
BEGIN:VEVENT
DTSTART:20131202T060000Z
DTEND:20131202T060000Z
X-MICROSOFT-CDO-ALLDAYEVENT:FALSE
SUMMARY:LG Class XXXIII Shirts
DESCRIPTION:LG Class XXXIII Shirts
X-ALT-DESC;FMTTYPE=text/html:LG Class XXXIII Shirts
LOCATION:
UID:e.2096.2594
SEQUENCE:3
DTSTAMP:20260420T213753Z
URL:https://network.garlandchamber.com/events/details/lg-class-xxxiii-shirts-12-02-2013-2594
END:VEVENT

END:VCALENDAR
