BEGIN:VCALENDAR
VERSION:2.0
PRODID:-//ChamberMaster//Event Calendar 2.0//EN
METHOD:PUBLISH
X-PUBLISHED-TTL:P3D
REFRESH-INTERVAL:P3D
CALSCALE:GREGORIAN
BEGIN:VEVENT
DTSTART:20110303T060000Z
DTEND:20110303T060000Z
X-MICROSOFT-CDO-ALLDAYEVENT:FALSE
SUMMARY:LG: Thirty Years & Counting!
DESCRIPTION:LG: Thirty Years & Counting!
X-ALT-DESC;FMTTYPE=text/html:LG: Thirty Years & Counting!
LOCATION:
UID:e.2096.2277
SEQUENCE:3
DTSTAMP:20260422T205809Z
URL:https://network.garlandchamber.com/events/details/lg-thirty-years-counting-03-03-2011-2277
END:VEVENT

END:VCALENDAR
