BEGIN:VCALENDAR
VERSION:2.0
PRODID:-//ChamberMaster//Event Calendar 2.0//EN
METHOD:PUBLISH
X-PUBLISHED-TTL:P3D
REFRESH-INTERVAL:P3D
CALSCALE:GREGORIAN
BEGIN:VEVENT
DTSTART:20120928T180000Z
DTEND:20120928T220000Z
X-MICROSOFT-CDO-ALLDAYEVENT:FALSE
SUMMARY:Life Message 3rd Annual Golf Tournament
DESCRIPTION:Life Message hosts its 3rd Annual Golf Tournament on Friday\, September 28\, 2012 at the Woodbridge Golf Club in Wylie. For additional information\, including available sponsorships\, see the registration form or contact Darla King at (877) 518-1000 ext: 601 or darla@lifemessage.org.  Click here to download the registration form.
X-ALT-DESC;FMTTYPE=text/html:<DIV style="FONT-FAMILY: Arial">Life Message hosts its 3rd Annual Golf Tournament on Friday\, September 28\, 2012 at the Woodbridge Golf Club in Wylie. For additional information\, including available sponsorships\, see the registration form or contact Darla King at (877) 518-1000 ext: 601 or <A href="mailto:darla@lifemessage.org">darla@lifemessage.org</A>. </DIV><DIV style="FONT-FAMILY: Arial">&nbsp\;</DIV><DIV style="FONT-FAMILY: Arial"><A dataFld=0:0 href="http://www.garlandchamber.com/images/stories/chamber/Member%20Promotions/LM%20Golf%20Tourn_Full%20Page%20Flyer_2.pdf">Click here</A> to download the registration form.</DIV>
LOCATION:Woodbridge Golf Club
UID:e.2096.1063
SEQUENCE:3
DTSTAMP:20260421T204538Z
URL:https://network.garlandchamber.com/events/details/life-message-3rd-annual-golf-tournament-09-28-2012-1063
END:VEVENT

END:VCALENDAR
