BEGIN:VCALENDAR
VERSION:2.0
PRODID:-//ChamberMaster//Event Calendar 2.0//EN
METHOD:PUBLISH
X-PUBLISHED-TTL:P3D
REFRESH-INTERVAL:P3D
CALSCALE:GREGORIAN
BEGIN:VEVENT
DTSTART:20120122T000000Z
DTEND:20120122T030000Z
X-MICROSOFT-CDO-ALLDAYEVENT:FALSE
SUMMARY:Life Message Benefit Dinner
DESCRIPTION:Contact Life Message at info@lifemessage.org or (877) 518-1000 to purchase tickets.
X-ALT-DESC;FMTTYPE=text/html:Contact Life Message at info@lifemessage.org or (877) 518-1000 to purchase tickets.
LOCATION:Eddie Napoli's Italian Bistro
UID:e.2096.951
SEQUENCE:3
DTSTAMP:20260422T064325Z
URL:https://network.garlandchamber.com/events/details/life-message-benefit-dinner-01-21-2012-951
END:VEVENT

END:VCALENDAR
