BEGIN:VCALENDAR
VERSION:2.0
PRODID:-//ChamberMaster//Event Calendar 2.0//EN
METHOD:PUBLISH
X-PUBLISHED-TTL:P3D
REFRESH-INTERVAL:P3D
CALSCALE:GREGORIAN
BEGIN:VEVENT
DTSTART:20110426T143000Z
DTEND:20110426T050000Z
X-MICROSOFT-CDO-ALLDAYEVENT:FALSE
SUMMARY:Life Message Ribbon Cutting
DESCRIPTION:
X-ALT-DESC;FMTTYPE=text/html:
LOCATION:Life Message
UID:e.2096.918
SEQUENCE:3
DTSTAMP:20260422T192509Z
URL:https://network.garlandchamber.com/events/details/life-message-ribbon-cutting-04-26-2011-918
END:VEVENT

END:VCALENDAR
