BEGIN:VCALENDAR
VERSION:2.0
PRODID:-//ChamberMaster//Event Calendar 2.0//EN
METHOD:PUBLISH
X-PUBLISHED-TTL:P3D
REFRESH-INTERVAL:P3D
CALSCALE:GREGORIAN
BEGIN:VEVENT
DTSTART:20070321T170000Z
DTEND:20070321T180000Z
X-MICROSOFT-CDO-ALLDAYEVENT:FALSE
SUMMARY:Lifetime Chiropractic Ribbon Cutting
DESCRIPTION:
X-ALT-DESC;FMTTYPE=text/html:
LOCATION:Lifetime Chiropractic
UID:e.2096.375
SEQUENCE:3
DTSTAMP:20260425T164331Z
URL:https://network.garlandchamber.com/events/details/lifetime-chiropractic-ribbon-cutting-03-21-2007-375
END:VEVENT

END:VCALENDAR
