BEGIN:VCALENDAR
VERSION:2.0
PRODID:-//ChamberMaster//Event Calendar 2.0//EN
METHOD:PUBLISH
X-PUBLISHED-TTL:P3D
REFRESH-INTERVAL:P3D
CALSCALE:GREGORIAN
BEGIN:VEVENT
DTSTART:20070207T210000Z
DTEND:20070207T221500Z
X-MICROSOFT-CDO-ALLDAYEVENT:FALSE
SUMMARY:Linda Petty Entertainment
DESCRIPTION:Linda Petty is a Dynamic Singer from the Dallas area\, with a loyal following.  Please come and shareour Valentines Celebration with Seniors at our  Independent Retirement Community.
X-ALT-DESC;FMTTYPE=text/html:Linda Petty is a Dynamic Singer from the Dallas area\, with a loyal following.  Please come and shareour Valentines Celebration with Seniors at our  Independent Retirement Community.
LOCATION:Montclair Estates\, An Active Senior Retirement Community
UID:e.2096.38
SEQUENCE:3
DTSTAMP:20260425T174807Z
URL:https://network.garlandchamber.com/events/details/linda-petty-entertainment-02-07-2007-38
END:VEVENT

END:VCALENDAR
