BEGIN:VCALENDAR
VERSION:2.0
PRODID:-//ChamberMaster//Event Calendar 2.0//EN
METHOD:PUBLISH
X-PUBLISHED-TTL:P3D
REFRESH-INTERVAL:P3D
CALSCALE:GREGORIAN
BEGIN:VEVENT
DTSTART:20100114T060000Z
DTEND:20100423T050000Z
X-MICROSOFT-CDO-ALLDAYEVENT:FALSE
SUMMARY:Live Healthy North Texas (100 Day Wellness Challenge)
DESCRIPTION:
X-ALT-DESC;FMTTYPE=text/html:<DIV><P class=MsoNormal style="MARGIN: 0in 0in 0pt">&nbsp\;</P></DIV>
LOCATION:
UID:e.2096.741
SEQUENCE:3
DTSTAMP:20260423T121408Z
URL:https://network.garlandchamber.com/events/details/live-healthy-north-texas-100-day-wellness-challenge-01-14-2010-741
END:VEVENT

END:VCALENDAR
