BEGIN:VCALENDAR
VERSION:2.0
PRODID:-//ChamberMaster//Event Calendar 2.0//EN
METHOD:PUBLISH
X-PUBLISHED-TTL:P3D
REFRESH-INTERVAL:P3D
CALSCALE:GREGORIAN
BEGIN:VEVENT
DTSTART:20100524T173000Z
DTEND:20100524T050000Z
X-MICROSOFT-CDO-ALLDAYEVENT:FALSE
SUMMARY:Lone Star Paralyzed Veterans of America Golf Classic
DESCRIPTION:
X-ALT-DESC;FMTTYPE=text/html:
LOCATION:Eldorado Country Club
UID:e.2096.767
SEQUENCE:3
DTSTAMP:20260423T105035Z
URL:https://network.garlandchamber.com/events/details/lone-star-paralyzed-veterans-of-america-golf-classic-05-24-2010-767
END:VEVENT

END:VCALENDAR
