BEGIN:VCALENDAR
VERSION:2.0
PRODID:-//ChamberMaster//Event Calendar 2.0//EN
METHOD:PUBLISH
X-PUBLISHED-TTL:P3D
REFRESH-INTERVAL:P3D
CALSCALE:GREGORIAN
BEGIN:VEVENT
DTSTART:20110101T060000Z
DTEND:20111212T060000Z
X-MICROSOFT-CDO-ALLDAYEVENT:FALSE
SUMMARY:Luncheon Booths - Only 4 Available per lunch
DESCRIPTION:Luncheon Booths - Only 4 Available per lunch
X-ALT-DESC;FMTTYPE=text/html:Luncheon Booths - Only 4 Available per lunch
LOCATION:The Atrium at the Granville Arts Center
UID:e.2096.2259
SEQUENCE:3
DTSTAMP:20260424T081146Z
URL:https://network.garlandchamber.com/events/details/luncheon-booths-only-4-available-per-lunch-01-01-2011-2259
END:VEVENT

END:VCALENDAR
