BEGIN:VCALENDAR
VERSION:2.0
PRODID:-//ChamberMaster//Event Calendar 2.0//EN
METHOD:PUBLISH
X-PUBLISHED-TTL:P3D
REFRESH-INTERVAL:P3D
CALSCALE:GREGORIAN
BEGIN:VEVENT
DTSTART:20091019T163000Z
DTEND:20091019T180000Z
X-MICROSOFT-CDO-ALLDAYEVENT:FALSE
SUMMARY:Luncheon Salute to N. Texas Chambers of Commerce
DESCRIPTION:
X-ALT-DESC;FMTTYPE=text/html:
LOCATION:Cowboys Stadium
UID:e.2096.711
SEQUENCE:3
DTSTAMP:20260423T205949Z
URL:https://network.garlandchamber.com/events/details/luncheon-salute-to-n-texas-chambers-of-commerce-10-19-2009-711
END:VEVENT

END:VCALENDAR
