BEGIN:VCALENDAR
VERSION:2.0
PRODID:-//ChamberMaster//Event Calendar 2.0//EN
METHOD:PUBLISH
X-PUBLISHED-TTL:P3D
REFRESH-INTERVAL:P3D
CALSCALE:GREGORIAN
BEGIN:VEVENT
DTSTART:20080804T130000Z
DTEND:20080804T050000Z
X-MICROSOFT-CDO-ALLDAYEVENT:FALSE
SUMMARY:M.G. Butler Memorial Golf Tournament & Auction
DESCRIPTION:
X-ALT-DESC;FMTTYPE=text/html:
LOCATION:Eastern Hill Country Club
UID:e.2096.558
SEQUENCE:3
DTSTAMP:20260424T161400Z
URL:https://network.garlandchamber.com/events/details/m-g-butler-memorial-golf-tournament-auction-08-04-2008-558
END:VEVENT

END:VCALENDAR
