BEGIN:VCALENDAR
VERSION:2.0
PRODID:-//ChamberMaster//Event Calendar 2.0//EN
METHOD:PUBLISH
X-PUBLISHED-TTL:P3D
REFRESH-INTERVAL:P3D
CALSCALE:GREGORIAN
BEGIN:VEVENT
DTSTART:20070104T060000Z
DTEND:20070104T060000Z
X-MICROSOFT-CDO-ALLDAYEVENT:FALSE
SUMMARY:Mains Street Hair Salon Ribbon Cutting
DESCRIPTION:Mains Street Hair Salon Ribbon Cutting
X-ALT-DESC;FMTTYPE=text/html:Mains Street Hair Salon Ribbon Cutting
LOCATION:Main Street Hair Salon
UID:e.2096.1665
SEQUENCE:3
DTSTAMP:20260425T210444Z
URL:https://network.garlandchamber.com/events/details/mains-street-hair-salon-ribbon-cutting-01-04-2007-1665
END:VEVENT

END:VCALENDAR
