BEGIN:VCALENDAR
VERSION:2.0
PRODID:-//ChamberMaster//Event Calendar 2.0//EN
METHOD:PUBLISH
X-PUBLISHED-TTL:P3D
REFRESH-INTERVAL:P3D
CALSCALE:GREGORIAN
BEGIN:VEVENT
DTSTART:20100113T180000Z
DTEND:20100113T190000Z
X-MICROSOFT-CDO-ALLDAYEVENT:FALSE
SUMMARY:Make A Difference In Your Business In 2010
DESCRIPTION:
X-ALT-DESC;FMTTYPE=text/html:<DIV><SPAN style="FONT-SIZE: 11pt\; COLOR: black\; FONT-FAMILY: 'Tempus Sans ITC'"></SPAN>&nbsp\;<P><?xml:namespace prefix = u2 /><u2:p></u2:p></P></DIV>
LOCATION:American National Bank of Texas
UID:e.2096.740
SEQUENCE:3
DTSTAMP:20260423T163642Z
URL:https://network.garlandchamber.com/events/details/make-a-difference-in-your-business-in-2010-01-13-2010-740
END:VEVENT

END:VCALENDAR
