BEGIN:VCALENDAR
VERSION:2.0
PRODID:-//ChamberMaster//Event Calendar 2.0//EN
METHOD:PUBLISH
X-PUBLISHED-TTL:P3D
REFRESH-INTERVAL:P3D
CALSCALE:GREGORIAN
BEGIN:VEVENT
DTSTART:20090813T230000Z
DTEND:20090814T000000Z
X-MICROSOFT-CDO-ALLDAYEVENT:FALSE
SUMMARY:''Make It Possible'' First Time Homebuyer Seminar
DESCRIPTION:At Firewheel Town Center\, right above Victoria secret…enter near Aeropostle…2nd Floor
X-ALT-DESC;FMTTYPE=text/html:At Firewheel Town Center\, right above Victoria secret…enter near Aeropostle…2nd Floor
LOCATION:State Farm Satellite Office
UID:e.2096.696
SEQUENCE:3
DTSTAMP:20260423T234209Z
URL:https://network.garlandchamber.com/events/details/make-it-possible-first-time-homebuyer-seminar-08-13-2009-696
END:VEVENT

END:VCALENDAR
