BEGIN:VCALENDAR
VERSION:2.0
PRODID:-//ChamberMaster//Event Calendar 2.0//EN
METHOD:PUBLISH
X-PUBLISHED-TTL:P3D
REFRESH-INTERVAL:P3D
CALSCALE:GREGORIAN
BEGIN:VEVENT
DTSTART:20120501T130000Z
DTEND:20120501T160000Z
X-MICROSOFT-CDO-ALLDAYEVENT:FALSE
SUMMARY:Managing Costs Through Growth Seminar
DESCRIPTION:For those businesses experiencing growth or those who are on the cusp of growth\, this seminar will focus on how to prepare\, maneuver\, and survive the growth stages of a business. An expert on cost management will be on hand to answer questions about your personal business scenarios. Seating is limited to 10 people so reserve your seat now. See a full calendar of all seminars available through the North Texas Small Business Development Center
X-ALT-DESC;FMTTYPE=text/html:<DIV style="FONT-FAMILY: Arial">For those businesses experiencing growth or those who are on the cusp of growth\, this seminar will focus on how to prepare\, maneuver\, and survive the growth stages of a business. An expert on cost management will be on hand to answer questions about your personal business scenarios. Seating is limited to 10 people so <A dataFld=0:0 href="https://events.r20.constantcontact.com/register/eventReg?oeidk=a07e5tqhhr2f5b62c0e&amp\;oseq=">reserve your seat now</A>.</DIV><DIV style="FONT-FAMILY: Arial">&nbsp\;</DIV><DIV style="FONT-FAMILY: Arial"><A dataFld=0:0 href="http://ntsbdc.org/supercali/index.php?o=2&amp\;w=1&amp\;c=1&amp\;m=05&amp\;a=1&amp\;y=2012">See a full calendar of all seminars available through the North Texas Small Business Development Center</A></DIV>
LOCATION:Bill J. Priest Institute at El Centro College
UID:e.2096.1031
SEQUENCE:3
DTSTAMP:20260422T010321Z
URL:https://network.garlandchamber.com/events/details/managing-costs-through-growth-seminar-05-01-2012-1031
END:VEVENT

END:VCALENDAR
