BEGIN:VCALENDAR
VERSION:2.0
PRODID:-//ChamberMaster//Event Calendar 2.0//EN
METHOD:PUBLISH
X-PUBLISHED-TTL:P3D
REFRESH-INTERVAL:P3D
CALSCALE:GREGORIAN
BEGIN:VEVENT
DTSTART:20090825T170000Z
DTEND:20090825T190000Z
X-MICROSOFT-CDO-ALLDAYEVENT:FALSE
SUMMARY:Managing the Real Time Workplace Brown Bag Lunch Series
DESCRIPTION:
X-ALT-DESC;FMTTYPE=text/html:
LOCATION:Richland College - Garland Campus
UID:e.2096.694
SEQUENCE:3
DTSTAMP:20260423T234451Z
URL:https://network.garlandchamber.com/events/details/managing-the-real-time-workplace-brown-bag-lunch-series-08-25-2009-694
END:VEVENT

END:VCALENDAR
