BEGIN:VCALENDAR
VERSION:2.0
PRODID:-//ChamberMaster//Event Calendar 2.0//EN
METHOD:PUBLISH
X-PUBLISHED-TTL:P3D
REFRESH-INTERVAL:P3D
CALSCALE:GREGORIAN
BEGIN:VEVENT
DTSTART:20070320T130000Z
DTEND:20070320T140000Z
X-MICROSOFT-CDO-ALLDAYEVENT:FALSE
SUMMARY:March A.M. Connections
DESCRIPTION:This FREE morning networking event that allows you an opportunity to meet other business people and make new contacts. These are not just networking events\, but and opportunity for you to connect with valuable resources/ people. Upon attending this event you are allowed 30 seconds to tell us about your business and express your business needs. Breakfast will be served!Bring plenty of business cards/ marketing materials to hand out.Invite a guest!
X-ALT-DESC;FMTTYPE=text/html:<I><SPAN style="FONT-SIZE: 12pt\; COLOR: black\; FONT-FAMILY: 'Arial Narrow'\; mso-bidi-font-family: Arial"><P class=MsoNormal style="MARGIN: 0in 0in 0pt\; mso-layout-grid-align: none"><FONT size=4><I><SPAN style="FONT-SIZE: 12pt\; COLOR: black\; FONT-FAMILY: 'Arial Narrow'\; mso-bidi-font-family: Arial">This </SPAN></I><?xml:namespace prefix = st1 ns = "urn:schemas-microsoft-com:office:smarttags" /><st1:stockticker><I><SPAN style="FONT-SIZE: 12pt\; COLOR: green\; FONT-FAMILY: 'Arial Narrow'\; mso-bidi-font-family: Arial">FREE</SPAN></I></st1:stockticker><I><SPAN style="FONT-SIZE: 12pt\; COLOR: black\; FONT-FAMILY: 'Arial Narrow'\; mso-bidi-font-family: Arial"> </SPAN></I><SPAN style="FONT-SIZE: 12pt\; COLOR: green\; FONT-FAMILY: 'Arial Narrow'\; mso-bidi-font-family: Arial\; mso-bidi-font-style: italic">morning</SPAN><B style="mso-bidi-font-weight: normal"><I><SPAN style="FONT-SIZE: 12pt\; COLOR: black\; FONT-FAMILY: 'Arial Narrow'\; mso-bidi-font-family: Arial"> </SPAN></I></B></FONT><I><SPAN style="FONT-SIZE: 12pt\; COLOR: black\; FONT-FAMILY: 'Arial Narrow'\; mso-bidi-font-family: Arial"><FONT size=4>networking event that allows you an opportunity to meet other business people and make new contacts.</FONT> </SPAN></I><SPAN style="FONT-SIZE: 12pt\; FONT-FAMILY: 'Arial Narrow'\; mso-bidi-font-family: Arial"><FONT size=4>These are not just networking events\, but&nbsp\;and&nbsp\;opportunity for you to connect with valuable resources/</FONT> <FONT size=4>people<I><SPAN style="COLOR: black">.&nbsp\;Upon attending this event you are allowed 30 seconds to tell us about your business and express your business needs. </SPAN></I></FONT></SPAN></P><P class=MsoNormal style="MARGIN: 0in 0in 0pt\; mso-layout-grid-align: none" align=center><SPAN style="FONT-SIZE: 12pt\; FONT-FAMILY: 'Arial Narrow'\; mso-bidi-font-family: Arial"><I><SPAN style="COLOR: black"></SPAN></I></SPAN><SPAN style="FONT-SIZE: 12pt\; FONT-FAMILY: 'Arial Narrow'\; mso-bidi-font-family: Arial"><I><SPAN style="COLOR: black"><FONT color=#008000 size=4>Breakfast will be served!</FONT></SPAN></I></SPAN></P><P class=MsoNormal style="MARGIN: 0in 0in 0pt\; mso-layout-grid-align: none" align=center><SPAN style="FONT-SIZE: 12pt\; FONT-FAMILY: 'Arial Narrow'\; mso-bidi-font-family: Arial"><I><SPAN style="COLOR: black"><FONT color=#800000 size=4>Bring plenty of business cards/&nbsp\;marketing materials&nbsp\;to hand out.</FONT></SPAN></I></SPAN></P><P class=MsoNormal style="MARGIN: 0in 0in 0pt\; mso-layout-grid-align: none" align=center><SPAN style="FONT-SIZE: 12pt\; FONT-FAMILY: 'Arial Narrow'\; mso-bidi-font-family: Arial"><I><SPAN style="COLOR: black"><FONT color=#008000 size=4>Invite a guest!</FONT></SPAN></I></SPAN></P></SPAN></I>
LOCATION:Chambrel at Club hill
UID:e.2096.349
SEQUENCE:3
DTSTAMP:20260425T162927Z
URL:https://network.garlandchamber.com/events/details/march-a-m-connections-03-20-2007-349
END:VEVENT

END:VCALENDAR
