BEGIN:VCALENDAR
VERSION:2.0
PRODID:-//ChamberMaster//Event Calendar 2.0//EN
METHOD:PUBLISH
X-PUBLISHED-TTL:P3D
REFRESH-INTERVAL:P3D
CALSCALE:GREGORIAN
BEGIN:VEVENT
DTSTART:20120327T123000Z
DTEND:20120327T140000Z
X-MICROSOFT-CDO-ALLDAYEVENT:FALSE
SUMMARY:March Nomination Event
DESCRIPTION:
X-ALT-DESC;FMTTYPE=text/html:
LOCATION:Garland Chamber of Commerce
UID:e.2096.1009
SEQUENCE:3
DTSTAMP:20260422T034613Z
URL:https://network.garlandchamber.com/events/details/march-nomination-event-03-27-2012-1009
END:VEVENT

END:VCALENDAR
