BEGIN:VCALENDAR
VERSION:2.0
PRODID:-//ChamberMaster//Event Calendar 2.0//EN
METHOD:PUBLISH
X-PUBLISHED-TTL:P3D
REFRESH-INTERVAL:P3D
CALSCALE:GREGORIAN
BEGIN:VEVENT
DTSTART:20070329T223000Z
DTEND:20070330T000000Z
X-MICROSOFT-CDO-ALLDAYEVENT:FALSE
SUMMARY:March P.M. Connections Networking Event
DESCRIPTION:Can't make it to the A.M. Connections\, then we have the perfect solution\, the P.M. Connections evening edition. Stop by to unwind after a long day at work and come prepared to network. This is your opportunity to promote your business\, while having a great time. If you missed the January event\, you have no idea what your missing. We'll see you soon!
X-ALT-DESC;FMTTYPE=text/html:<DIV><DIV><FONT face="Arial Narrow"><DIV><FONT face="Arial Narrow"><DIV><FONT face="Arial Narrow"><FONT size=4>Can't make it to the A.M. Connections<SPAN class=403171817-30012007>\, </SPAN>then we have the perfect solution\, the P.M. Connections evening edition<SPAN class=403171817-30012007>. Stop by to unwind after a long day at work and come prepared to network. This is your opportunity to promote your business\, while having a great time. If you missed the January event\, you have no idea what your missing. We'll see you soon!</SPAN></FONT></FONT></DIV></FONT></DIV></FONT></DIV></DIV>
LOCATION:Oakridge Country Club
UID:e.2096.364
SEQUENCE:3
DTSTAMP:20260425T163024Z
URL:https://network.garlandchamber.com/events/details/march-p-m-connections-networking-event-03-29-2007-364
END:VEVENT

END:VCALENDAR
