BEGIN:VCALENDAR
VERSION:2.0
PRODID:-//ChamberMaster//Event Calendar 2.0//EN
METHOD:PUBLISH
X-PUBLISHED-TTL:P3D
REFRESH-INTERVAL:P3D
CALSCALE:GREGORIAN
BEGIN:VEVENT
DTSTART:20130326T130000Z
DTEND:20130326T140000Z
X-MICROSOFT-CDO-ALLDAYEVENT:FALSE
SUMMARY:March V.I.P. Coffee - CANCELED
DESCRIPTION:Need resources to help you get connected and make your business more successful? Have specific business needs or concerns? Wondering how the Garland Chamber truly benefit your business? Join us for V.I.P. Coffee to network and discuss the things that keep you up at night. Learn more about how the Chamber works each day to offer businesses more exposure and to strategically connect them with prospective customers and partners. This is your opportunity to obtain more information on the various resources that the Chamber\, the City and the government has available to help your business grow and be successful. Attendees will also have an opportunity to ask questions about the Chamber or City of Garland. Meet the Chamber staff and Garland Small Business Development Center counselor. There is no cost to attend.We look forward to meeting you! Contact Kisha Allen at (469) 326-7454 or kisha.allen@garlandchamber.com for additional information. Please RSVP by March 22nd at noon.
X-ALT-DESC;FMTTYPE=text/html:<P>Need resources to help you get&nbsp\;connected and make your business more successful? </P><P>Have specific&nbsp\;business needs or concerns? </P><P>Wondering how the Garland Chamber truly benefit your business? </P><P>Join us for V.I.P. Coffee to network and discuss the things that keep you up at night. Learn more about how the Chamber works each day to offer businesses more exposure and to strategically connect them with prospective customers and partners. This is your opportunity to obtain more information on the various resources that the Chamber\, the City and the government has available to help your business grow and be successful. Attendees will also have an opportunity to ask questions about the Chamber or City of Garland. Meet the Chamber staff and Garland Small Business Development Center counselor. </P><P>There is no cost to attend.We look forward to meeting you! </P><P>Contact Kisha Allen at (469) 326-7454 or <A href="mailto:kisha.allen@garlandchamber.com">kisha.allen@garlandchamber.com</A> for additional information. </P><P>Please&nbsp\;RSVP by March 22nd at noon. </P>
LOCATION:Garland Chamber of Commerce
UID:e.2096.1134
SEQUENCE:3
DTSTAMP:20260421T115108Z
URL:https://network.garlandchamber.com/events/details/march-v-i-p-coffee-canceled-03-26-2013-1134
END:VEVENT

END:VCALENDAR
