BEGIN:VCALENDAR
VERSION:2.0
PRODID:-//ChamberMaster//Event Calendar 2.0//EN
METHOD:PUBLISH
X-PUBLISHED-TTL:P3D
REFRESH-INTERVAL:P3D
CALSCALE:GREGORIAN
BEGIN:VEVENT
DTSTART:20110722T163000Z
DTEND:20110722T180000Z
X-MICROSOFT-CDO-ALLDAYEVENT:FALSE
SUMMARY:Marketing Workshop #1
DESCRIPTION:Garland Marketing Workshop SeriesIn today's economy many businesses are struggling to find new approaches for maintaining and increasing revenues.  This workshop series will provide the opportunity for business owners and decision makers to focus on and begin developing an improved marketing and sales strategy that positions them to achieve success.  Participants are encouraged to bring their laptop to use in these workshops (optional).Session 1 (July 22\, 2011) - Strategic Differentiation\; Providing Value in the Mind of Prospective Customers”:  This session guides participants to prepare a marketing strategy and approach for differentiating themselves and effectively communicating value in the minds of customers.Session 2 (August 5\, 2011) - Taking Your Sales Culture from Good to Great”: This session applies the critical success factors of successful sales organizations for participants to translate their marketing plan into a successful sales process.Session 3 (August 19\, 2011) - Innovation Marketing Blueprint\; Planning for Business Success": This session uses a proven Marketing Plan template and approach for participants to translate their strategy into a plan of action that will insure success.In addition to the workshop sessions\, a number of opportunities for individualized coaching and/or web-based training will be made available for participants at a significant discount from normal rates.PresentersBrad Chilcote is President of The Alternative Board® (TAB) NE Dallas - Rockwall\, and is a TAB-Certified Facilitator and Coach.  TAB is an exclusive\, membership organization that helps business owners achieve more profitability\, productivity\, and personal fulfillment through an unmatched combination of peer to peer insight\, private coaching\, TAB tools\, and resources that connect business owners to thousands of their peers around the world.  He has over 25 years of experience providing strategic\, tactical and fiscal leadership for businesses.Cliff Hand  is the President and Marketing Consultant with Marketing Specific\, Inc. specializing in creative design and concepting\, project management\, photography\, videography and logo design\, webpage design\, search engine optimization\, print design\, and marketing strategies. He has over 20 years of marketing and advertising experience\; and has won over 20 ADDY Awards for his logo designs\, concepting\, artwork\, and ad design.Register for all three sessions together and pay $97. After July 22nd the final two sessions will be $47 each.
X-ALT-DESC;FMTTYPE=text/html:<DIV><P style="TEXT-ALIGN: center\; MARGIN: 0in 0in 10pt" class=MsoNormal align=center><B><SPAN style="LINE-HEIGHT: 115%\; FONT-FAMILY: 'Century Schoolbook'\,'serif'\; COLOR: #006666\; FONT-SIZE: 10pt\; mso-bidi-font-family: Arial\; mso-fareast-font-family: 'Times New Roman'"><FONT size=3>Garland Marketing Workshop Series<?xml:namespace prefix = o ns = "urn:schemas-microsoft-com:office:office" /><o:p></o:p></FONT></SPAN></B></P><P style="MARGIN: 0in 0in 10pt" class=MsoNormal><FONT size=3><SPAN style="LINE-HEIGHT: 115%\; FONT-FAMILY: 'Century Schoolbook'\,'serif'\; COLOR: black\; FONT-SIZE: 10pt\; mso-bidi-font-family: Arial\; mso-fareast-font-family: 'Times New Roman'\; mso-bidi-font-weight: bold">In today's economy many businesses are struggling to find new approaches for maintaining and increasing revenues.<SPAN style="mso-spacerun: yes">&nbsp\; </SPAN>This workshop series will provide the opportunity for business owners and decision makers to focus on and begin developing an improved marketing and sales strategy that positions them to achieve success.<SPAN style="mso-spacerun: yes">&nbsp\; </SPAN>Participants are encouraged to bring their laptop to use in these workshops (optional).</SPAN><SPAN style="LINE-HEIGHT: 115%\; FONT-FAMILY: 'Century Schoolbook'\,'serif'\; COLOR: black\; FONT-SIZE: 10pt\; mso-bidi-font-family: 'Times New Roman'\; mso-fareast-font-family: 'Times New Roman'"><o:p></o:p></SPAN></FONT></P><P style="TEXT-INDENT: -0.75in\; MARGIN: 0in 0in 10pt 0.75in" class=MsoNormal><FONT size=3><B><SPAN style="LINE-HEIGHT: 115%\; FONT-FAMILY: 'Century Schoolbook'\,'serif'\; COLOR: #006666\; FONT-SIZE: 10pt\; mso-bidi-font-family: 'Times New Roman'\; mso-fareast-font-family: 'Times New Roman'">Session 1</SPAN></B><SPAN style="LINE-HEIGHT: 115%\; FONT-FAMILY: 'Century Schoolbook'\,'serif'\; COLOR: black\; FONT-SIZE: 10pt\; mso-bidi-font-family: 'Times New Roman'\; mso-fareast-font-family: 'Times New Roman'"> (July 22\, 2011) - Strategic Differentiation\; Providing Value in the Mind of Prospective Customers”:<SPAN style="mso-spacerun: yes">&nbsp\; </SPAN>This session guides participants to prepare a marketing strategy and approach for differentiating themselves and effectively communicating value in the minds of customers.<o:p></o:p></SPAN></FONT></P><P style="TEXT-INDENT: -0.75in\; MARGIN: 0in 0in 10pt 0.75in" class=MsoNormal><FONT size=3><B><SPAN style="LINE-HEIGHT: 115%\; FONT-FAMILY: 'Century Schoolbook'\,'serif'\; COLOR: #006666\; FONT-SIZE: 10pt\; mso-bidi-font-family: 'Times New Roman'\; mso-fareast-font-family: 'Times New Roman'">Session 2</SPAN></B><SPAN style="LINE-HEIGHT: 115%\; FONT-FAMILY: 'Century Schoolbook'\,'serif'\; COLOR: black\; FONT-SIZE: 10pt\; mso-bidi-font-family: 'Times New Roman'\; mso-fareast-font-family: 'Times New Roman'"> (August 5\, 2011) - Taking Your Sales Culture from Good to Great”: This session applies the critical success factors of successful sales organizations for participants to translate their marketing plan into a successful sales process.<o:p></o:p></SPAN></FONT></P><P style="TEXT-INDENT: -0.75in\; MARGIN: 0in 0in 10pt 0.75in" class=MsoNormal><FONT size=3><B><SPAN style="LINE-HEIGHT: 115%\; FONT-FAMILY: 'Century Schoolbook'\,'serif'\; COLOR: #006666\; FONT-SIZE: 10pt\; mso-bidi-font-family: 'Times New Roman'\; mso-fareast-font-family: 'Times New Roman'">Session 3</SPAN></B><SPAN style="LINE-HEIGHT: 115%\; FONT-FAMILY: 'Century Schoolbook'\,'serif'\; COLOR: black\; FONT-SIZE: 10pt\; mso-bidi-font-family: 'Times New Roman'\; mso-fareast-font-family: 'Times New Roman'"> (August 19\, 2011) - Innovation Marketing Blueprint\; Planning for Business Success": This session uses a proven Marketing Plan template and approach for participants to translate their strategy into a plan of action that will insure success.<o:p></o:p></SPAN></FONT></P><P style="MARGIN: 0in 0in 10pt" class=MsoNormal><SPAN style="LINE-HEIGHT: 115%\; FONT-FAMILY: 'Century Schoolbook'\,'serif'\; COLOR: black\; FONT-SIZE: 10pt\; mso-bidi-font-family: Arial\; mso-fareast-font-family: 'Times New Roman'\; mso-bidi-font-weight: bold"><FONT size=3>In addition to the workshop sessions\, a number of opportunities for individualized coaching and/or web-based training will be made available for participants at a significant discount from normal rates.<o:p></o:p></FONT></SPAN></P><P style="MARGIN: 0in 0in 10pt" class=MsoNormal><FONT size=3><B><I style="mso-bidi-font-style: normal"><U><SPAN style="LINE-HEIGHT: 115%\; FONT-FAMILY: 'Century Schoolbook'\,'serif'\; COLOR: #006666\; FONT-SIZE: 10pt\; mso-bidi-font-family: Arial\; mso-fareast-font-family: 'Times New Roman'">Presenters</SPAN></U></I></B><B><I style="mso-bidi-font-style: normal"><U><SPAN style="LINE-HEIGHT: 115%\; FONT-FAMILY: 'Century Schoolbook'\,'serif'\; COLOR: #006666\; FONT-SIZE: 10pt\; mso-bidi-font-family: 'Times New Roman'\; mso-fareast-font-family: 'Times New Roman'"><o:p></o:p></SPAN></U></I></B></FONT></P><P style="MARGIN: 0in 0in 10pt" class=MsoNormal><FONT size=3><B><I style="mso-bidi-font-style: normal"><SPAN style="LINE-HEIGHT: 115%\; FONT-FAMILY: 'Century Schoolbook'\,'serif'\; COLOR: black\; FONT-SIZE: 10pt\; mso-bidi-font-family: Arial\; mso-fareast-font-family: 'Times New Roman'">Brad Chilcote</SPAN></I></B><SPAN style="LINE-HEIGHT: 115%\; FONT-FAMILY: 'Century Schoolbook'\,'serif'\; COLOR: black\; FONT-SIZE: 10pt\; mso-bidi-font-family: Arial\; mso-fareast-font-family: 'Times New Roman'\; mso-bidi-font-weight: bold"> is President of The Alternative Board® (TAB) NE Dallas - Rockwall\, and is a TAB-Certified Facilitator and Coach.<SPAN style="mso-spacerun: yes">&nbsp\; </SPAN>TAB is an exclusive\, membership organization that helps business owners achieve more profitability\, productivity\, and personal fulfillment through an unmatched combination of peer to peer insight\, private coaching\, TAB tools\, and resources that connect business owners to thousands of their peers around the world.<SPAN style="mso-spacerun: yes">&nbsp\; </SPAN>He </SPAN><SPAN style="LINE-HEIGHT: 115%\; FONT-FAMILY: 'Century Schoolbook'\,'serif'\; COLOR: black\; FONT-SIZE: 10pt\; mso-bidi-font-family: Arial\; mso-fareast-font-family: 'Times New Roman'">has over 25 years of experience providing strategic\, tactical and fiscal leadership for businesses.</SPAN><SPAN style="LINE-HEIGHT: 115%\; FONT-FAMILY: 'Century Schoolbook'\,'serif'\; COLOR: black\; FONT-SIZE: 10pt\; mso-bidi-font-family: 'Times New Roman'\; mso-fareast-font-family: 'Times New Roman'"><o:p></o:p></SPAN></FONT></P><P style="MARGIN: 0in 0in 10pt" class=MsoNormal><FONT size=3><B><I style="mso-bidi-font-style: normal"><SPAN style="LINE-HEIGHT: 115%\; FONT-FAMILY: 'Century Schoolbook'\,'serif'\; COLOR: black\; FONT-SIZE: 10pt\; mso-bidi-font-family: Arial\; mso-fareast-font-family: 'Times New Roman'">Cliff Hand</SPAN></I></B><SPAN style="LINE-HEIGHT: 115%\; FONT-FAMILY: 'Century Schoolbook'\,'serif'\; COLOR: black\; FONT-SIZE: 10pt\; mso-bidi-font-family: Arial\; mso-fareast-font-family: 'Times New Roman'"><SPAN style="mso-spacerun: yes">&nbsp\; </SPAN>is the President and Marketing Consultant with Marketing Specific\, Inc. specializing in creative design and concepting\, project management\, photography\, videography and logo design\, webpage design\, search engine optimization\, print design\, and marketing strategies. He has over 20 years of marketing and advertising experience\; and has won over 20 ADDY Awards for his logo designs<A name=_GoBack></A>\, concepting\, artwork\, and ad design.<o:p></o:p></SPAN></FONT></P><P style="TEXT-ALIGN: center\; MARGIN: 0in 0in 10pt" class=MsoNormal align=center><FONT size=3><B><SPAN style="LINE-HEIGHT: 115%\; FONT-FAMILY: 'Century Schoolbook'\,'serif'\; COLOR: #006666\; FONT-SIZE: 10pt\; mso-bidi-font-family: 'Times New Roman'\; mso-fareast-font-family: 'Times New Roman'">Register for all three sessions together and pay $97. </SPAN></B><SPAN style="LINE-HEIGHT: 115%\; FONT-FAMILY: 'Century Schoolbook'\,'serif'\; COLOR: #006666\; FONT-SIZE: 10pt\; mso-bidi-font-family: 'Times New Roman'\; mso-fareast-font-family: 'Times New Roman'"><o:p></o:p></SPAN></FONT></P><P style="TEXT-ALIGN: center\; LINE-HEIGHT: normal\; MARGIN: 0in 0in 10pt" class=MsoNormal align=center><FONT size=3><B><SPAN style="FONT-FAMILY: 'Century Schoolbook'\,'serif'\; COLOR: #006666\; FONT-SIZE: 10pt\; mso-bidi-font-family: 'Times New Roman'\; mso-fareast-font-family: 'Times New Roman'">After July 22nd the final two sessions will be $47 each.</SPAN></B><SPAN style="FONT-FAMILY: 'Century Schoolbook'\,'serif'\; FONT-SIZE: 10pt\; mso-bidi-font-family: 'Times New Roman'\; mso-fareast-font-family: 'Times New Roman'"><o:p></o:p></SPAN></FONT></P></DIV>
LOCATION:Garland Chamber of Commerce
UID:e.2096.943
SEQUENCE:3
DTSTAMP:20260422T151752Z
URL:https://network.garlandchamber.com/events/details/marketing-workshop-1-07-22-2011-943
END:VEVENT

END:VCALENDAR
