BEGIN:VCALENDAR
VERSION:2.0
PRODID:-//ChamberMaster//Event Calendar 2.0//EN
METHOD:PUBLISH
X-PUBLISHED-TTL:P3D
REFRESH-INTERVAL:P3D
CALSCALE:GREGORIAN
BEGIN:VEVENT
DTSTART:20110819T163000Z
DTEND:20110819T180000Z
X-MICROSOFT-CDO-ALLDAYEVENT:FALSE
SUMMARY:Marketing Workshop #3 - CANCELED
DESCRIPTION:Garland Marketing Workshop SeriesIn today's economy many businesses are struggling to find new approaches for maintaining and increasing revenues.  This workshop series will provide the opportunity for business owners and decision makers to focus on and begin developing an improved marketing and sales strategy that positions them to achieve success.  Participants are encouraged to bring their laptop to use in these workshops (optional).Session 3 - Innovation Marketing Blueprint\; Planning for Business Success": This session uses a proven Marketing Plan template and approach for participants to translate their strategy into a plan of action that will insure success.In addition to the workshop sessions\, a number of opportunities for individualized coaching and/or web-based training will be made available for participants at a significant discount from normal rates.PresentersBrad Chilcote is President of The Alternative Board® (TAB) NE Dallas - Rockwall\, and is a TAB-Certified Facilitator and Coach.  TAB is an exclusive\, membership organization that helps business owners achieve more profitability\, productivity\, and personal fulfillment through an unmatched combination of peer to peer insight\, private coaching\, TAB tools\, and resources that connect business owners to thousands of their peers around the world.  He has over 25 years of experience providing strategic\, tactical and fiscal leadership for businesses.Cliff Hand  is the President and Marketing Consultant with Marketing Specific\, Inc. specializing in creative design and concepting\, project management\, photography\, videography and logo design\, webpage design\, search engine optimization\, print design\, and marketing strategies. He has over 20 years of marketing and advertising experience\; and has won over 20 ADDY Awards for his logo designs\, concepting\, artwork\, and ad design.
X-ALT-DESC;FMTTYPE=text/html:<P style="TEXT-ALIGN: center\; LINE-HEIGHT: normal\; MARGIN: 0in 0in 10pt" class=MsoNormal align=center><B><SPAN style="FONT-FAMILY: 'Century Schoolbook'\,'serif'\; COLOR: #006666\; FONT-SIZE: 10pt\; mso-bidi-font-family: Arial\; mso-fareast-font-family: 'Times New Roman'"><FONT size=3>Garland Marketing Workshop Series<?xml:namespace prefix = o ns = "urn:schemas-microsoft-com:office:office" /><o:p></o:p></FONT></SPAN></B></P><P style="LINE-HEIGHT: normal\; MARGIN: 0in 0in 10pt" class=MsoNormal><SPAN style="FONT-FAMILY: 'Century Schoolbook'\,'serif'\; COLOR: black\; FONT-SIZE: 10pt\; mso-bidi-font-family: Arial\; mso-fareast-font-family: 'Times New Roman'\; mso-bidi-font-weight: bold">In today's economy many businesses are struggling to find new approaches for maintaining and increasing revenues.<SPAN style="mso-spacerun: yes">&nbsp\; </SPAN>This workshop series will provide the opportunity for business owners and decision makers to focus on and begin developing an improved marketing and sales strategy that positions them to achieve success.<SPAN style="mso-spacerun: yes">&nbsp\; </SPAN>Participants are encouraged to bring their laptop to use in these workshops (optional).</SPAN><SPAN style="FONT-FAMILY: 'Century Schoolbook'\,'serif'\; COLOR: black\; FONT-SIZE: 10pt\; mso-bidi-font-family: 'Times New Roman'\; mso-fareast-font-family: 'Times New Roman'"><o:p></o:p></SPAN></P><P style="LINE-HEIGHT: normal\; TEXT-INDENT: -0.75in\; MARGIN: 0in 0in 10pt 0.75in" class=MsoNormal><B><SPAN style="FONT-FAMILY: 'Century Schoolbook'\,'serif'\; COLOR: #006666\; FONT-SIZE: 10pt\; mso-bidi-font-family: 'Times New Roman'\; mso-fareast-font-family: 'Times New Roman'">Session&nbsp\;3</SPAN></B><SPAN style="FONT-FAMILY: 'Century Schoolbook'\,'serif'\; COLOR: black\; FONT-SIZE: 10pt\; mso-bidi-font-family: 'Times New Roman'\; mso-fareast-font-family: 'Times New Roman'"> - Innovation Marketing Blueprint\; Planning for Business Success": This session uses a proven Marketing Plan template and approach for participants to translate their strategy into a plan of action that will insure success.<o:p></o:p></SPAN></P><P style="LINE-HEIGHT: normal\; MARGIN: 0in 0in 10pt" class=MsoNormal><SPAN style="FONT-FAMILY: 'Century Schoolbook'\,'serif'\; COLOR: black\; FONT-SIZE: 10pt\; mso-bidi-font-family: Arial\; mso-fareast-font-family: 'Times New Roman'\; mso-bidi-font-weight: bold">In addition to the workshop sessions\, a number of opportunities for individualized coaching and/or web-based training will be made available for participants at a significant discount from normal rates.<o:p></o:p></SPAN></P><P style="LINE-HEIGHT: normal\; MARGIN: 0in 0in 10pt" class=MsoNormal><B><I style="mso-bidi-font-style: normal"><U><SPAN style="FONT-FAMILY: 'Century Schoolbook'\,'serif'\; COLOR: #006666\; FONT-SIZE: 10pt\; mso-bidi-font-family: Arial\; mso-fareast-font-family: 'Times New Roman'">Presenters</SPAN></U></I></B><B><I style="mso-bidi-font-style: normal"><U><SPAN style="FONT-FAMILY: 'Century Schoolbook'\,'serif'\; COLOR: #006666\; FONT-SIZE: 10pt\; mso-bidi-font-family: 'Times New Roman'\; mso-fareast-font-family: 'Times New Roman'"><o:p></o:p></SPAN></U></I></B></P><P style="LINE-HEIGHT: normal\; MARGIN: 0in 0in 10pt" class=MsoNormal><B><I style="mso-bidi-font-style: normal"><SPAN style="FONT-FAMILY: 'Century Schoolbook'\,'serif'\; COLOR: black\; FONT-SIZE: 10pt\; mso-bidi-font-family: Arial\; mso-fareast-font-family: 'Times New Roman'">Brad Chilcote</SPAN></I></B><SPAN style="FONT-FAMILY: 'Century Schoolbook'\,'serif'\; COLOR: black\; FONT-SIZE: 10pt\; mso-bidi-font-family: Arial\; mso-fareast-font-family: 'Times New Roman'\; mso-bidi-font-weight: bold"> is President of The Alternative Board® (TAB) NE Dallas - Rockwall\, and is a TAB-Certified Facilitator and Coach.<SPAN style="mso-spacerun: yes">&nbsp\; </SPAN>TAB is an exclusive\, membership organization that helps business owners achieve more profitability\, productivity\, and personal fulfillment through an unmatched combination of peer to peer insight\, private coaching\, TAB tools\, and resources that connect business owners to thousands of their peers around the world.<SPAN style="mso-spacerun: yes">&nbsp\; </SPAN>He </SPAN><SPAN style="FONT-FAMILY: 'Century Schoolbook'\,'serif'\; COLOR: black\; FONT-SIZE: 10pt\; mso-bidi-font-family: Arial\; mso-fareast-font-family: 'Times New Roman'">has over 25 years of experience providing strategic\, tactical and fiscal leadership for businesses.</SPAN><SPAN style="FONT-FAMILY: 'Century Schoolbook'\,'serif'\; COLOR: black\; FONT-SIZE: 10pt\; mso-bidi-font-family: 'Times New Roman'\; mso-fareast-font-family: 'Times New Roman'"><o:p></o:p></SPAN></P><P style="LINE-HEIGHT: normal\; MARGIN: 0in 0in 10pt" class=MsoNormal><B><I style="mso-bidi-font-style: normal"><SPAN style="FONT-FAMILY: 'Century Schoolbook'\,'serif'\; COLOR: black\; FONT-SIZE: 10pt\; mso-bidi-font-family: Arial\; mso-fareast-font-family: 'Times New Roman'">Cliff Hand</SPAN></I></B><SPAN style="FONT-FAMILY: 'Century Schoolbook'\,'serif'\; COLOR: black\; FONT-SIZE: 10pt\; mso-bidi-font-family: Arial\; mso-fareast-font-family: 'Times New Roman'"><SPAN style="mso-spacerun: yes">&nbsp\; </SPAN>is the President and Marketing Consultant with Marketing Specific\, Inc. specializing in creative design and concepting\, project management\, photography\, videography and logo design\, webpage design\, search engine optimization\, print design\, and marketing strategies. He has over 20 years of marketing and advertising experience\; and has won over 20 ADDY Awards for his logo designs<A name=_GoBack></A>\, concepting\, artwork\, and ad design.<o:p></o:p></SPAN></P><P style="MARGIN: 0in 0in 10pt" class=MsoNormal><SPAN style="LINE-HEIGHT: 115%\; FONT-SIZE: 10pt"><o:p><FONT face=Calibri>&nbsp\;</FONT></o:p></SPAN></P><P>&nbsp\;</P>
LOCATION:Garland Chamber of Commerce
UID:e.2096.942
SEQUENCE:3
DTSTAMP:20260422T134116Z
URL:https://network.garlandchamber.com/events/details/marketing-workshop-3-canceled-08-19-2011-942
END:VEVENT

END:VCALENDAR
