BEGIN:VCALENDAR
VERSION:2.0
PRODID:-//ChamberMaster//Event Calendar 2.0//EN
METHOD:PUBLISH
X-PUBLISHED-TTL:P3D
REFRESH-INTERVAL:P3D
CALSCALE:GREGORIAN
BEGIN:VEVENT
DTSTART:20070517T223000Z
DTEND:20070518T000000Z
X-MICROSOFT-CDO-ALLDAYEVENT:FALSE
SUMMARY:May P.M. Connections
DESCRIPTION:
X-ALT-DESC;FMTTYPE=text/html:
LOCATION:ITT Technical Institute
UID:e.2096.382
SEQUENCE:3
DTSTAMP:20260425T133215Z
URL:https://network.garlandchamber.com/events/details/may-p-m-connections-05-17-2007-382
END:VEVENT

END:VCALENDAR
