BEGIN:VCALENDAR
VERSION:2.0
PRODID:-//ChamberMaster//Event Calendar 2.0//EN
METHOD:PUBLISH
X-PUBLISHED-TTL:P3D
REFRESH-INTERVAL:P3D
CALSCALE:GREGORIAN
BEGIN:VEVENT
DTSTART:20120529T130000Z
DTEND:20120529T140000Z
X-MICROSOFT-CDO-ALLDAYEVENT:FALSE
SUMMARY:May V.I.P. Coffee
DESCRIPTION:HOW CAN WE GET YOU CONNECTED AND HELP YOUR BUSINESS BE SUCCESSFUL?What Are You Business Needs/ Concerns? How Can the Chamber Benefit Your Business?Come out to network and discuss the things that keep you up at night. Learn more about how the Chamber works each day to offer businesses more exposure and strategically connect them with prospective customers and partners. This is your opportunity to obtain more information on the various resources that the Chamber\, the City and the government has available to help your business grow and be successful. Attendees will also have an opportunity to ask any questions that they may have about the Chamber or the City of Garland. Meet the Chamber staff and the Garland Small Business Development Center Counselor. We look forward to meeting you! Contact Kisha Allen at (469) 326-7454 or kisha.allen@garlandchamber.com to RSVP by May 25. Be Our Guest!TUESDAY\, MAY 29\, 20128:00 to 9:00 a.m.Garland Chamber OF COMMERCE 520 N. GLENBROOK - Garland\, TX  75040 THERE IS NO COST TO ATTEND
X-ALT-DESC;FMTTYPE=text/html:<DIV style="FONT-FAMILY: Arial"><P style="TEXT-ALIGN: center\; MARGIN: 0in 0in 8pt 0.5in" class=MsoBodyText3 align=center><FONT face=Arial><FONT size=2><B><SPAN style="LINE-HEIGHT: 125%\; FONT-FAMILY: 'Franklin Gothic Book'\,'sans-serif'\; COLOR: #339966\; FONT-SIZE: 11pt">HOW CAN WE GET YOU CONNECTED AND HELP YOUR BUSINESS BE SUCCESSFUL?</SPAN></B><SPAN style="LINE-HEIGHT: 125%\; FONT-FAMILY: 'Franklin Gothic Book'\,'sans-serif'\; COLOR: #339966\; FONT-SIZE: 11pt"><?xml:namespace prefix = o ns = "urn:schemas-microsoft-com:office:office" /><o:p></o:p></SPAN></FONT></FONT></P><P style="TEXT-ALIGN: center\; MARGIN: 0in 0in 8pt\; mso-pagination: none" class=MsoBodyText3 align=center><B style="mso-bidi-font-weight: normal"><SPAN style="LINE-HEIGHT: 125%\; TEXT-TRANSFORM: uppercase\; FONT-FAMILY: 'Franklin Gothic Book'\,'sans-serif'\; COLOR: #339966\; FONT-SIZE: 11pt"><FONT face=Arial><FONT size=2>What Are You Business Needs/ Concerns? <o:p></o:p></FONT></FONT></SPAN></B></P><P style="TEXT-ALIGN: center\; MARGIN: 0in 0in 8pt\; mso-pagination: none" class=MsoBodyText3 align=center><B style="mso-bidi-font-weight: normal"><SPAN style="LINE-HEIGHT: 125%\; TEXT-TRANSFORM: uppercase\; FONT-FAMILY: 'Franklin Gothic Book'\,'sans-serif'\; COLOR: #339966\; FONT-SIZE: 11pt"><FONT face=Arial><FONT size=2>How Can the Chamber Benefit Your Business?<o:p></o:p></FONT></FONT></SPAN></B></P><P style="TEXT-ALIGN: center\; MARGIN: 0in 0in 8pt\; mso-pagination: none" class=MsoBodyText3 align=center><SPAN style="LINE-HEIGHT: 125%\; FONT-FAMILY: 'Franklin Gothic Book'\,'sans-serif'\; FONT-SIZE: 11pt"><FONT face=Arial><FONT size=2>Come out to network and discuss the things that keep you up at night. Learn more about how the Chamber works each day to offer businesses more exposure and strategically connect them with prospective customers and&nbsp\;partners. This is your opportunity to obtain more information on the various resources that the Chamber\, the City and the government has available to help your business grow and be successful. Attendees will also have an opportunity to ask any questions that they may have about the Chamber or the City of Garland. Meet the Chamber staff and the Garland Small Business Development Center Counselor. We look forward to meeting you!<o:p></o:p></FONT></FONT></SPAN></P><P style="TEXT-ALIGN: center\; MARGIN: 0in 0in 8pt\; mso-pagination: none" class=MsoBodyText3 align=center><SPAN style="LINE-HEIGHT: 125%\; FONT-FAMILY: 'Franklin Gothic Book'\,'sans-serif'\; FONT-SIZE: 8pt"><o:p><FONT size=2 face=Arial>&nbsp\;</FONT></o:p></SPAN></P><P style="TEXT-ALIGN: center\; MARGIN: 0in 0in 8pt\; mso-pagination: none" class=MsoBodyText3 align=center><B><SPAN style="LINE-HEIGHT: 125%\; FONT-FAMILY: 'Franklin Gothic Book'\,'sans-serif'\; FONT-SIZE: 11pt"><FONT size=2 face=Arial>Contact Kisha Allen at (469) 326-7454 or </FONT><A href="mailto:kisha.allen@garlandchamber.com"><FONT size=2 face=Arial>kisha.allen@garlandchamber.com</FONT></A><FONT face=Arial><FONT size=2> to RSVP by May 25.<o:p></o:p></FONT></FONT></SPAN></B></P><P style="MARGIN: 0in 0in 0pt" class=msotitle3><SPAN style="LINE-HEIGHT: 175%\; FONT-FAMILY: 'Franklin Gothic Book'\,'sans-serif'\; FONT-SIZE: 8pt"><o:p><STRONG><FONT size=2 face=Arial>&nbsp\;</FONT></STRONG></o:p></SPAN></P><P style="MARGIN: 0in 0in 0pt" class=msotitle3><SPAN style="LINE-HEIGHT: 175%\; FONT-FAMILY: 'Franklin Gothic Book'\,'sans-serif'\; FONT-SIZE: 11pt"><STRONG><FONT size=2 face=Arial>Be Our Guest!</FONT></STRONG></SPAN></P><P style="MARGIN: 0in 0in 0pt" class=msotitle3><SPAN style="LINE-HEIGHT: 175%\; FONT-FAMILY: 'Franklin Gothic Book'\,'sans-serif'\; COLOR: #339966\; FONT-SIZE: 11pt"><STRONG><FONT face=Arial><FONT size=2>TUESDAY\, MAY 29\, 2012<o:p></o:p></FONT></FONT></STRONG></SPAN></P><P style="MARGIN: 0in 0in 0pt" class=msotitle3><SPAN style="LINE-HEIGHT: 175%\; FONT-FAMILY: 'Franklin Gothic Book'\,'sans-serif'\; COLOR: #339966\; FONT-SIZE: 11pt"><STRONG><FONT face=Arial><FONT size=2>8:00 to 9:00 a.m.<o:p></o:p></FONT></FONT></STRONG></SPAN></P><P style="MARGIN: 0in 0in 0pt" class=msotitle3><SPAN style="LINE-HEIGHT: 175%\; FONT-FAMILY: 'Franklin Gothic Book'\,'sans-serif'\; COLOR: windowtext\; FONT-SIZE: 11pt"><STRONG><FONT face=Arial><FONT size=2><FONT color=#7f7f7f>Garland Chamber OF COMMERCE <o:p></o:p></FONT></FONT></FONT></STRONG></SPAN></P><P style="MARGIN: 0in 0in 0pt" class=msotitle3><STRONG><FONT face=Arial><FONT size=2><SPAN style="LINE-HEIGHT: 175%\; FONT-FAMILY: 'Franklin Gothic Book'\,'sans-serif'\; COLOR: windowtext\; FONT-SIZE: 11pt"><FONT color=#7f7f7f>520 N. GLENBROOK - Garland\, TX&nbsp\; 75040</FONT></SPAN><SPAN style="LINE-HEIGHT: 175%\; FONT-FAMILY: 'Franklin Gothic Book'\,'sans-serif'\; COLOR: #006633\; FONT-SIZE: 11pt">&nbsp\;</SPAN><SPAN style="LINE-HEIGHT: 175%\; FONT-FAMILY: 'Franklin Gothic Book'\,'sans-serif'\; COLOR: windowtext\; FONT-SIZE: 11pt"><o:p></o:p></SPAN></FONT></FONT></STRONG></P><SPAN style="FONT-FAMILY: 'Franklin Gothic Book'\,'sans-serif'\; COLOR: #7030a0\; FONT-SIZE: 11pt\; mso-fareast-font-family: Calibri\; mso-fareast-theme-font: minor-latin\; mso-bidi-font-family: 'Times New Roman'\; mso-bidi-theme-font: minor-bidi\; mso-ansi-language: EN-US\; mso-fareast-language: EN-US\; mso-bidi-language: AR-SA"><FONT color=#7f7f7f size=2 face=Arial>THERE IS NO COST TO ATTEND</FONT></SPAN></DIV>
LOCATION:Garland Chamber of Commerce
UID:e.2096.1046
SEQUENCE:3
DTSTAMP:20260422T010143Z
URL:https://network.garlandchamber.com/events/details/may-v-i-p-coffee-05-29-2012-1046
END:VEVENT

END:VCALENDAR
