BEGIN:VCALENDAR
VERSION:2.0
PRODID:-//ChamberMaster//Event Calendar 2.0//EN
METHOD:PUBLISH
X-PUBLISHED-TTL:P3D
REFRESH-INTERVAL:P3D
CALSCALE:GREGORIAN
BEGIN:VEVENT
DTSTART:20070516T130000Z
DTEND:20070516T140000Z
X-MICROSOFT-CDO-ALLDAYEVENT:FALSE
SUMMARY:May V.I.P. Coffee 2007
DESCRIPTION:Join us for a cup of great coffee! Come out to discuss your business needs/ concerns and see if a partnership with the Chamber is right for your business. You will meet the Chamber President and network with other business owners. This is also your opportunity to ask questions or find out more information on the Chamber\, Economic Development activities and the City.Prospects Only!!!
X-ALT-DESC;FMTTYPE=text/html:<DIV style="FONT-FAMILY: Arial"><P class=MsoNormal style="MARGIN: 0in 0in 0pt\; mso-layout-grid-align: none"><I><SPAN style="FONT-SIZE: 12pt\; COLOR: black\; FONT-FAMILY: 'Arial Narrow'\; mso-bidi-font-family: Arial">Join us for a cup of great coffee! Come out to discuss your business needs/ concerns and see if a partnership with the Chamber is right for your business. You will meet the Chamber President and network with other business owners. This is also your opportunity to ask questions or find out more information on the Chamber\, Economic Development activities and the City.<?xml:namespace prefix = o ns = "urn:schemas-microsoft-com:office:office" /><o:p></o:p></SPAN></I></P><P class=MsoNormal style="MARGIN: 0in 0in 0pt\; mso-layout-grid-align: none"><B style="mso-bidi-font-weight: normal"><I><SPAN style="FONT-SIZE: 12pt\; COLOR: green\; FONT-FAMILY: 'Arial Narrow'\; mso-bidi-font-family: Arial">Prospects Only!!! <o:p></o:p></SPAN></I></B></P></DIV>
LOCATION:Garland Chamber of Commerce
UID:e.2096.396
SEQUENCE:3
DTSTAMP:20260425T133228Z
URL:https://network.garlandchamber.com/events/details/may-v-i-p-coffee-2007-05-16-2007-396
END:VEVENT

END:VCALENDAR
